BEGIN:VCALENDAR
VERSION:2.0
PRODID:-//Öchsle Museumsschmalspurbahn - ECPv6.15.20//NONSGML v1.0//EN
CALSCALE:GREGORIAN
METHOD:PUBLISH
X-ORIGINAL-URL:https://oechsle-bahn.de/wp
X-WR-CALDESC:Veranstaltungen für Öchsle Museumsschmalspurbahn
REFRESH-INTERVAL;VALUE=DURATION:PT1H
X-Robots-Tag:noindex
X-PUBLISHED-TTL:PT1H
BEGIN:VTIMEZONE
TZID:Europe/Berlin
BEGIN:DAYLIGHT
TZOFFSETFROM:+0100
TZOFFSETTO:+0200
TZNAME:CEST
DTSTART:20250330T010000
END:DAYLIGHT
BEGIN:STANDARD
TZOFFSETFROM:+0200
TZOFFSETTO:+0100
TZNAME:CET
DTSTART:20251026T010000
END:STANDARD
BEGIN:DAYLIGHT
TZOFFSETFROM:+0100
TZOFFSETTO:+0200
TZNAME:CEST
DTSTART:20260329T010000
END:DAYLIGHT
BEGIN:STANDARD
TZOFFSETFROM:+0200
TZOFFSETTO:+0100
TZNAME:CET
DTSTART:20261025T010000
END:STANDARD
BEGIN:DAYLIGHT
TZOFFSETFROM:+0100
TZOFFSETTO:+0200
TZNAME:CEST
DTSTART:20270328T010000
END:DAYLIGHT
BEGIN:STANDARD
TZOFFSETFROM:+0200
TZOFFSETTO:+0100
TZNAME:CET
DTSTART:20271031T010000
END:STANDARD
END:VTIMEZONE
BEGIN:VEVENT
DTSTART;VALUE=DATE:20261204
DTEND;VALUE=DATE:20261205
DTSTAMP:20260422T004602
CREATED:20251014T090312Z
LAST-MODIFIED:20251027T084332Z
UID:10000198-1796342400-1796428799@oechsle-bahn.de
SUMMARY:Nikolausfahrt
DESCRIPTION:Die beliebten Öchsle-Fahrten mit dem Nikolaus. \nAm zweiten Adventswochenende besucht dann der Nikolaus das Öchsle. Gemeinsam mit Knecht Ruprecht geht er während der Fahrt durch die Wagen und bringt allen Besuchern ein Säckchen mit Leckereien. \nReservierungspflicht\, Erwachsene: 22 €\, Kinder (2 – 14 Jahre): 16 €\, Kinder bis 2 Jahre: frei \n 
URL:https://oechsle-bahn.de/wp/termin/nikolausfahrt-4/
CATEGORIES:Sonderfahrten
ATTACH;FMTTYPE=image/jpeg:https://oechsle-bahn.de/wp/wp-content/uploads/2025/10/oechsle-nikolausfahrt-2026-a6-freitag.jpg
END:VEVENT
BEGIN:VEVENT
DTSTART;VALUE=DATE:20261205
DTEND;VALUE=DATE:20261206
DTSTAMP:20260422T004602
CREATED:20251014T090521Z
LAST-MODIFIED:20251027T084349Z
UID:10000199-1796428800-1796515199@oechsle-bahn.de
SUMMARY:Nikolausfahrt
DESCRIPTION:Die beliebten Öchsle-Fahrten mit dem Nikolaus. \nAm zweiten Adventswochenende besucht dann der Nikolaus das Öchsle. Gemeinsam mit Knecht Ruprecht geht er während der Fahrt durch die Wagen und bringt allen Besuchern ein Säckchen mit Leckereien. \nReservierungspflicht\, Erwachsene: 22 €\, Kinder (2 – 14 Jahre): 16 €\, Kinder bis 2 Jahre: frei \n 
URL:https://oechsle-bahn.de/wp/termin/nikolausfahrt-5/
CATEGORIES:Sonderfahrten
ATTACH;FMTTYPE=image/jpeg:https://oechsle-bahn.de/wp/wp-content/uploads/2025/10/oechsle-nikolausfahrt-2026-a6-samstag.jpg
END:VEVENT
BEGIN:VEVENT
DTSTART;VALUE=DATE:20261206
DTEND;VALUE=DATE:20261207
DTSTAMP:20260422T004602
CREATED:20251014T090647Z
LAST-MODIFIED:20251027T084403Z
UID:10000200-1796515200-1796601599@oechsle-bahn.de
SUMMARY:Nikolausfahrt
DESCRIPTION:Die beliebten Öchsle-Fahrten mit dem Nikolaus. \nAm zweiten Adventswochenende besucht dann der Nikolaus das Öchsle. Gemeinsam mit Knecht Ruprecht geht er während der Fahrt durch die Wagen und bringt allen Besuchern ein Säckchen mit Leckereien. \nReservierungspflicht\, Erwachsene: 22 €\, Kinder (2 – 14 Jahre): 16 €\, Kinder bis 2 Jahre: frei \n 
URL:https://oechsle-bahn.de/wp/termin/nikolausfahrt-6/
CATEGORIES:Sonderfahrten
ATTACH;FMTTYPE=image/jpeg:https://oechsle-bahn.de/wp/wp-content/uploads/2025/10/oechsle-nikolausfahrt-2026-a6-sonntag.jpg
END:VEVENT
END:VCALENDAR