BEGIN:VCALENDAR
VERSION:2.0
PRODID:-//Öchsle Museumsschmalspurbahn - ECPv6.15.20//NONSGML v1.0//EN
CALSCALE:GREGORIAN
METHOD:PUBLISH
X-WR-CALNAME:Öchsle Museumsschmalspurbahn
X-ORIGINAL-URL:https://oechsle-bahn.de/wp
X-WR-CALDESC:Veranstaltungen für Öchsle Museumsschmalspurbahn
REFRESH-INTERVAL;VALUE=DURATION:PT1H
X-Robots-Tag:noindex
X-PUBLISHED-TTL:PT1H
BEGIN:VTIMEZONE
TZID:Europe/Berlin
BEGIN:DAYLIGHT
TZOFFSETFROM:+0100
TZOFFSETTO:+0200
TZNAME:CEST
DTSTART:20250330T010000
END:DAYLIGHT
BEGIN:STANDARD
TZOFFSETFROM:+0200
TZOFFSETTO:+0100
TZNAME:CET
DTSTART:20251026T010000
END:STANDARD
BEGIN:DAYLIGHT
TZOFFSETFROM:+0100
TZOFFSETTO:+0200
TZNAME:CEST
DTSTART:20260329T010000
END:DAYLIGHT
BEGIN:STANDARD
TZOFFSETFROM:+0200
TZOFFSETTO:+0100
TZNAME:CET
DTSTART:20261025T010000
END:STANDARD
BEGIN:DAYLIGHT
TZOFFSETFROM:+0100
TZOFFSETTO:+0200
TZNAME:CEST
DTSTART:20270328T010000
END:DAYLIGHT
BEGIN:STANDARD
TZOFFSETFROM:+0200
TZOFFSETTO:+0100
TZNAME:CET
DTSTART:20271031T010000
END:STANDARD
END:VTIMEZONE
BEGIN:VEVENT
DTSTART;VALUE=DATE:20261003
DTEND;VALUE=DATE:20261004
DTSTAMP:20260421T211612
CREATED:20251010T084029Z
LAST-MODIFIED:20251014T092319Z
UID:10000154-1790985600-1791071999@oechsle-bahn.de
SUMMARY:Samstagsfahrt
DESCRIPTION:Das Öchsle fährt jeden 1. Samstag im Monat von 02.05.2026 bis 03.10.2026. \nEine Reservierung ist erforderlich für Gruppen ab 10 Personen. Kleinere Gruppen und Einzelpersonen benötigen keine Reservierung. Aktuelle Preise finden Sie hier (PDF) > \n  \n\n\n\n\n	Erste FahrtZweite Fahrt\n\n\n\n\n	Warthausen ab10.3014.45\n\n\n	Ochsenhausen an11.4015.55\n\n\n	Ochsenhausen ab12.0016.15\n\n\n	Warthausen an13.1017.25
URL:https://oechsle-bahn.de/wp/termin/samstagsfahrt-11/
CATEGORIES:Reguläre Fahrten
ATTACH;FMTTYPE=image/jpeg:https://oechsle-bahn.de/wp/wp-content/uploads/2024/12/Oechsle-GGG_7475b.jpg
END:VEVENT
BEGIN:VEVENT
DTSTART;VALUE=DATE:20261003
DTEND;VALUE=DATE:20261004
DTSTAMP:20260421T211612
CREATED:20251012T090348Z
LAST-MODIFIED:20251028T094529Z
UID:10000175-1790985600-1791071999@oechsle-bahn.de
SUMMARY:Oktoberfest / Samstagsfahrt
DESCRIPTION:Das Öchsle fährt jeden 1. Samstag im Monat von 03.05.2025 bis 04.10.2025. \nEine Reservierung ist erforderlich für Gruppen ab 10 Personen. Kleinere Gruppen und Einzelpersonen benötigen keine Reservierung. Aktuelle Preise finden Sie hier (PDF) > \nVom 3. bis 4. Oktober findet in Ochsenhausen das Öchsle Oktoberfest statt\, wer in Tracht mitfährt\, bekommt an diesem Wochenende noch 20 Prozent Rabatt auf den Fahrpreis. \n  \n\n\n\n\n	Erste FahrtZweite Fahrt\n\n\n\n\n	Warthausen ab10.3014.45\n\n\n	Ochsenhausen an11.4015.55\n\n\n	Ochsenhausen ab12.0016.15\n\n\n	Warthausen an13.1017.25
URL:https://oechsle-bahn.de/wp/termin/oktoberfest-samstagsfahrt-2/
CATEGORIES:Reguläre Fahrten
ATTACH;FMTTYPE=image/jpeg:https://oechsle-bahn.de/wp/wp-content/uploads/2025/10/oechsle-oktoberfest-2026-a6-samstag-1.jpg
END:VEVENT
BEGIN:VEVENT
DTSTART;VALUE=DATE:20261003
DTEND;VALUE=DATE:20261004
DTSTAMP:20260421T211612
CREATED:20251014T073248Z
LAST-MODIFIED:20251014T073248Z
UID:10000181-1790985600-1791071999@oechsle-bahn.de
SUMMARY:Erlebniswelt Eisenbahn
DESCRIPTION:Tagesseminar mit Blick hinter die Kulissen der Öchsle-Bahn: Führung übers Bahnhofsgelände Ochsenhausen\, Mittagessen\, Fahrt nach Warthausen\, Besichtigung des Lokschuppens\, Kaffee und Kuchen im Zug. \nReservierungspflicht\, Anmeldung: www.bw-ox.de
URL:https://oechsle-bahn.de/wp/termin/erlebniswelt-eisenbahn-4/
CATEGORIES:Sonderfahrten
ATTACH;FMTTYPE=image/jpeg:https://oechsle-bahn.de/wp/wp-content/uploads/2020/03/saisonstart-21-1.jpg
END:VEVENT
BEGIN:VEVENT
DTSTART;VALUE=DATE:20261003
DTEND;VALUE=DATE:20261005
DTSTAMP:20260421T211612
CREATED:20251014T151052Z
LAST-MODIFIED:20251014T151357Z
UID:10000205-1790985600-1791158399@oechsle-bahn.de
SUMMARY:Oktoberfest
DESCRIPTION:Oktoberfest zum Saisonende mit Live-Musik. \nDie Gäste können das echte Oktoberfestflair mit Weißwurstfrühstück und zünftiger musikalischer Begleitung gemeinsam mit gelebter Eisenbahnromantik erleben. Das Öchsle fährt zu den regulären Fahrzeiten am Samstag und Sonntag. Wer in Tracht mitfährt\, bekommt sogar noch 20 Prozent Rabatt auf den Fahrpreis.
URL:https://oechsle-bahn.de/wp/termin/oktoberfest-2/
CATEGORIES:Weitere Veranstaltungen
ATTACH;FMTTYPE=image/jpeg:https://oechsle-bahn.de/wp/wp-content/uploads/2024/04/PHOTO-2024-04-04-09-21-46_1.jpg
END:VEVENT
BEGIN:VEVENT
DTSTART;VALUE=DATE:20261004
DTEND;VALUE=DATE:20261005
DTSTAMP:20260421T211612
CREATED:20251012T090827Z
LAST-MODIFIED:20251028T094708Z
UID:10000176-1791072000-1791158399@oechsle-bahn.de
SUMMARY:Oktoberfest / Sonntagsfahrt
DESCRIPTION:Das Öchsle fährt an allen Sonn- und Feiertagen von 01.05.2026 bis 11.10.2026. \nVom 3. bis 4. Oktober findet in Ochsenhausen das Öchsle Oktoberfest statt\, wer in Tracht mitfährt\, bekommt an diesem Wochenende noch 20 Prozent Rabatt auf den Fahrpreis. \nEine Reservierung ist erforderlich für Gruppen ab 10 Personen. Kleinere Gruppen und Einzelpersonen benötigen keine Reservierung. Aktuelle Preise finden Sie hier (PDF) > \n  \n\n\n\n\n	Erste FahrtZweite Fahrt\n\n\n\n\n	Warthausen ab10.3014.45\n\n\n	Ochsenhausen an11.4015.55\n\n\n	Ochsenhausen ab12.0016.15\n\n\n	Warthausen an13.1017.25
URL:https://oechsle-bahn.de/wp/termin/oktoberfest-sonntagsfahrt-3/
CATEGORIES:Reguläre Fahrten
ATTACH;FMTTYPE=image/jpeg:https://oechsle-bahn.de/wp/wp-content/uploads/2025/10/oechsle-oktoberfest-2026-a6-sonntag-1.jpg
END:VEVENT
BEGIN:VEVENT
DTSTART;VALUE=DATE:20261011
DTEND;VALUE=DATE:20261012
DTSTAMP:20260421T211613
CREATED:20251012T091034Z
LAST-MODIFIED:20251014T084449Z
UID:10000177-1791676800-1791763199@oechsle-bahn.de
SUMMARY:Herbstfahrt / Sonntagsfahrt
DESCRIPTION:Bei der Herbstfahrt wird den Fahrgästen während der Fahrt im Speisewagen Apfelmost & Zwiebelkuchen angeboten (nicht im regulären Fahrpreis inbegriffen). \nWenn es die Witterung notwendig machen sollte\, können die Waggons selbstverständlich auch beheizt werden. In Ochsenhausen ist noch zusätzlich verkaufsoffener Sonntag. Die örtlichen Geschäfte und Gastronomie freuen sich auf viele Besucher. \nEine Reservierung ist erforderlich für Gruppen ab 10 Personen. Kleinere Gruppen und Einzelpersonen benötigen keine Reservierung. Aktuelle Preise finden Sie hier (PDF) >
URL:https://oechsle-bahn.de/wp/termin/herbstfahrt-sonntagsfahrt/
CATEGORIES:Reguläre Fahrten
ATTACH;FMTTYPE=image/jpeg:https://oechsle-bahn.de/wp/wp-content/uploads/2018/09/1_oechsle-herbst2018_BECHTER.jpg
END:VEVENT
BEGIN:VEVENT
DTSTART;VALUE=DATE:20261016
DTEND;VALUE=DATE:20261017
DTSTAMP:20260421T211613
CREATED:20251014T084827Z
LAST-MODIFIED:20251027T083447Z
UID:10000194-1792108800-1792195199@oechsle-bahn.de
SUMMARY:Mondscheinfahrt
DESCRIPTION:Mit Volldampf in den Herbst: Im Licht des fast vollen Mondes dampft die Öchsle-Bahn von Warthausen nach Ochsenhausen. \nDort empfängt die Fahrgäste ein mit Fackeln beleuchteter Bahnhof\, wo ein deftiger Gulascheintopf wartet und die Musik aufspielt. Die Landschaft verbunden mit dem Mondlicht ist ein einmaliges Erlebnis. Essen und zwei Getränke sind im Fahrpreis inbegriffen. \nReservierungspflicht\, Erwachsene: 44 €\, Kinder: 22 €
URL:https://oechsle-bahn.de/wp/termin/mondscheinfahrt-3/
CATEGORIES:Sonderfahrten
ATTACH;FMTTYPE=image/jpeg:https://oechsle-bahn.de/wp/wp-content/uploads/2025/10/oechsle-mondscheinfahrt-2026-a6-freitag.jpg
END:VEVENT
BEGIN:VEVENT
DTSTART;VALUE=DATE:20261017
DTEND;VALUE=DATE:20261018
DTSTAMP:20260421T211613
CREATED:20251014T085218Z
LAST-MODIFIED:20251027T083504Z
UID:10000195-1792195200-1792281599@oechsle-bahn.de
SUMMARY:Mondscheinfahrt
DESCRIPTION:Mit Volldampf in den Herbst: Im Licht des fast vollen Mondes dampft die Öchsle-Bahn von Warthausen nach Ochsenhausen. \nDort empfängt die Fahrgäste ein mit Fackeln beleuchteter Bahnhof\, wo ein deftiger Gulascheintopf wartet und die Musik aufspielt. Die Landschaft verbunden mit dem Mondlicht ist ein einmaliges Erlebnis. Essen und zwei Getränke sind im Fahrpreis inbegriffen. \nReservierungspflicht\, Erwachsene: 44 €\, Kinder: 22 €
URL:https://oechsle-bahn.de/wp/termin/mondscheinfahrt-4/
CATEGORIES:Sonderfahrten
ATTACH;FMTTYPE=image/jpeg:https://oechsle-bahn.de/wp/wp-content/uploads/2025/10/oechsle-mondscheinfahrt-2026-a6-samstag.jpg
END:VEVENT
END:VCALENDAR