BEGIN:VCALENDAR
VERSION:2.0
PRODID:-//Öchsle Museumsschmalspurbahn - ECPv6.15.20//NONSGML v1.0//EN
CALSCALE:GREGORIAN
METHOD:PUBLISH
X-WR-CALNAME:Öchsle Museumsschmalspurbahn
X-ORIGINAL-URL:https://oechsle-bahn.de/wp
X-WR-CALDESC:Veranstaltungen für Öchsle Museumsschmalspurbahn
REFRESH-INTERVAL;VALUE=DURATION:PT1H
X-Robots-Tag:noindex
X-PUBLISHED-TTL:PT1H
BEGIN:VTIMEZONE
TZID:Europe/Berlin
BEGIN:DAYLIGHT
TZOFFSETFROM:+0100
TZOFFSETTO:+0200
TZNAME:CEST
DTSTART:20250330T010000
END:DAYLIGHT
BEGIN:STANDARD
TZOFFSETFROM:+0200
TZOFFSETTO:+0100
TZNAME:CET
DTSTART:20251026T010000
END:STANDARD
BEGIN:DAYLIGHT
TZOFFSETFROM:+0100
TZOFFSETTO:+0200
TZNAME:CEST
DTSTART:20260329T010000
END:DAYLIGHT
BEGIN:STANDARD
TZOFFSETFROM:+0200
TZOFFSETTO:+0100
TZNAME:CET
DTSTART:20261025T010000
END:STANDARD
BEGIN:DAYLIGHT
TZOFFSETFROM:+0100
TZOFFSETTO:+0200
TZNAME:CEST
DTSTART:20270328T010000
END:DAYLIGHT
BEGIN:STANDARD
TZOFFSETFROM:+0200
TZOFFSETTO:+0100
TZNAME:CET
DTSTART:20271031T010000
END:STANDARD
END:VTIMEZONE
BEGIN:VEVENT
DTSTART;VALUE=DATE:20260903
DTEND;VALUE=DATE:20260904
DTSTAMP:20260421T191508
CREATED:20251014T082955Z
LAST-MODIFIED:20251014T112445Z
UID:10000192-1788393600-1788479999@oechsle-bahn.de
SUMMARY:Donnerstagsfahrt
DESCRIPTION:Das Öchsle fährt an allen Donnerstagen von 16.07.2026 bis 10.09.2026. \nEine Reservierung ist erforderlich für Gruppen ab 10 Personen. Kleinere Gruppen und Einzelpersonen benötigen keine Reservierung. Aktuelle Preise finden Sie hier (PDF) > \nAn den Donnerstagen finden in Ochsenhausen außerdem öffentliche Stadtführungen statt. Beginn 12.00 Uhr am Öchsle-Bahnhof. Keine Anmeldung notwendig. Kosten: 5\,00 € / Erwachsener (ab 16 Jahren). Weitere Informationen erhalten Sie bei der Tourist-Info unter Tel. 07352 9220-26. \n  \n\n\n\n\n	Erste FahrtZweite Fahrt\n\n\n\n\n	Warthausen ab10.3014.45\n\n\n	Ochsenhausen an11.4015.55\n\n\n	Ochsenhausen ab12.0016.15\n\n\n	Warthausen an13.1017.25
URL:https://oechsle-bahn.de/wp/termin/donnerstagsfahrt-17/
CATEGORIES:Reguläre Fahrten
ATTACH;FMTTYPE=image/jpeg:https://oechsle-bahn.de/wp/wp-content/uploads/2021/07/oechslebahn-foto-kilian-mueller.jpg
END:VEVENT
BEGIN:VEVENT
DTSTART;VALUE=DATE:20260905
DTEND;VALUE=DATE:20260906
DTSTAMP:20260421T191508
CREATED:20251010T083837Z
LAST-MODIFIED:20251014T092236Z
UID:10000153-1788566400-1788652799@oechsle-bahn.de
SUMMARY:Samstagsfahrt
DESCRIPTION:Das Öchsle fährt jeden 1. Samstag im Monat von 02.05.2026 bis 03.10.2026. \nEine Reservierung ist erforderlich für Gruppen ab 10 Personen. Kleinere Gruppen und Einzelpersonen benötigen keine Reservierung. Aktuelle Preise finden Sie hier (PDF) > \n  \n\n\n\n\n	Erste FahrtZweite Fahrt\n\n\n\n\n	Warthausen ab10.3014.45\n\n\n	Ochsenhausen an11.4015.55\n\n\n	Ochsenhausen ab12.0016.15\n\n\n	Warthausen an13.1017.25
URL:https://oechsle-bahn.de/wp/termin/samstagsfahrt-10/
CATEGORIES:Reguläre Fahrten
ATTACH;FMTTYPE=image/jpeg:https://oechsle-bahn.de/wp/wp-content/uploads/2024/12/Oechsle-GGG_7475b.jpg
END:VEVENT
BEGIN:VEVENT
DTSTART;VALUE=DATE:20260906
DTEND;VALUE=DATE:20260907
DTSTAMP:20260421T191508
CREATED:20251013T144538Z
LAST-MODIFIED:20251028T094253Z
UID:10000172-1788652800-1788739199@oechsle-bahn.de
SUMMARY:Bahnhofsfest
DESCRIPTION:Ein buntes Programm unter dem Motto Eisenbahnerlebnisse für die ganze Familie. \nFrühschoppen mit Livemusik\, Streetfood Markt\, Kaffee und Kuchen. Kostenlose Führungen mit spannenden Einblicken in Technik und Geschichte der Öchsle-Museumsbahn. Mitglieder des Schmalspurbahnvereins demonstrieren Werkzeuge und Arbeitsabläufe. Ausstellung mit historischen Fahrzeugen und Besichtigung des historischen Lokschuppens. Fahrten mit der Handhebeldraisine\, eine Kindereisenbahn und eine Modellbahnausstellung. Die Waschfrauen laden zu Vorführungen in ihr Museum ein. \nAm 6.09. gibt es zusätzliche Züge\, Reservierungen sind nur in den planmäßigen Zügen möglich > \nFlyer (PDF) > \n  \n \n \n 
URL:https://oechsle-bahn.de/wp/termin/bahnhofsfest-2/
CATEGORIES:Weitere Veranstaltungen
ATTACH;FMTTYPE=image/jpeg:https://oechsle-bahn.de/wp/wp-content/uploads/2025/10/oechsle-bahnhofsfest-2026-a6-1.1-1.jpg
END:VEVENT
BEGIN:VEVENT
DTSTART;VALUE=DATE:20260906
DTEND;VALUE=DATE:20260907
DTSTAMP:20260421T191508
CREATED:20251014T110254Z
LAST-MODIFIED:20251028T094331Z
UID:10000204-1788652800-1788739199@oechsle-bahn.de
SUMMARY:Sonntagsfahrt / Bahnhofsfest
DESCRIPTION:Das Öchsle fährt an allen Sonn- und Feiertagen von 01.05.2026 bis 11.10.2026. \nEine Reservierung ist erforderlich für Gruppen ab 10 Personen. Kleinere Gruppen und Einzelpersonen benötigen keine Reservierung. Aktuelle Preise finden Sie hier (PDF) > \nAn diesem Sonntag\, 06.09.2026 ist das große Bahnhofsfest in Ochsenhausen. Alle Infos dazu finden Sie hier >
URL:https://oechsle-bahn.de/wp/termin/sonntagsfahrt-33/
CATEGORIES:Reguläre Fahrten
ATTACH;FMTTYPE=image/jpeg:https://oechsle-bahn.de/wp/wp-content/uploads/2025/10/oechsle-bahnhofsfest-2026-a6-1.1-1.jpg
END:VEVENT
BEGIN:VEVENT
DTSTART;VALUE=DATE:20260910
DTEND;VALUE=DATE:20260911
DTSTAMP:20260421T191508
CREATED:20251014T083118Z
LAST-MODIFIED:20251014T112629Z
UID:10000193-1788998400-1789084799@oechsle-bahn.de
SUMMARY:Donnerstagsfahrt
DESCRIPTION:Das Öchsle fährt an allen Donnerstagen von 16.07.2026 bis 10.09.2026. \nEine Reservierung ist erforderlich für Gruppen ab 10 Personen. Kleinere Gruppen und Einzelpersonen benötigen keine Reservierung. Aktuelle Preise finden Sie hier (PDF) > \nAn den Donnerstagen finden in Ochsenhausen außerdem öffentliche Stadtführungen statt. Beginn 12.00 Uhr am Öchsle-Bahnhof. Keine Anmeldung notwendig. Kosten: 5\,00 € / Erwachsener (ab 16 Jahren). Weitere Informationen erhalten Sie bei der Tourist-Info unter Tel. 07352 9220-26. \n  \n\n\n\n\n	Erste FahrtZweite Fahrt\n\n\n\n\n	Warthausen ab10.3014.45\n\n\n	Ochsenhausen an11.4015.55\n\n\n	Ochsenhausen ab12.0016.15\n\n\n	Warthausen an13.1017.25
URL:https://oechsle-bahn.de/wp/termin/donnerstagsfahrt-18/
CATEGORIES:Reguläre Fahrten
ATTACH;FMTTYPE=image/jpeg:https://oechsle-bahn.de/wp/wp-content/uploads/2021/07/oechslebahn-foto-kilian-mueller.jpg
END:VEVENT
BEGIN:VEVENT
DTSTART;VALUE=DATE:20260913
DTEND;VALUE=DATE:20260914
DTSTAMP:20260421T191508
CREATED:20251012T084804Z
LAST-MODIFIED:20251012T084900Z
UID:10000171-1789257600-1789343999@oechsle-bahn.de
SUMMARY:Sonntagsfahrt
DESCRIPTION:Das Öchsle fährt an allen Sonn- und Feiertagen von 01.05.2026 bis 11.10.2026. \nEine Reservierung ist erforderlich für Gruppen ab 10 Personen. Kleinere Gruppen und Einzelpersonen benötigen keine Reservierung. Aktuelle Preise finden Sie hier (PDF) > \n  \n\n\n\n\n	Erste FahrtZweite Fahrt\n\n\n\n\n	Warthausen ab10.3014.45\n\n\n	Ochsenhausen an11.4015.55\n\n\n	Ochsenhausen ab12.0016.15\n\n\n	Warthausen an13.1017.25
URL:https://oechsle-bahn.de/wp/termin/sonntagsfahrt-30/
CATEGORIES:Reguläre Fahrten
ATTACH;FMTTYPE=image/jpeg:https://oechsle-bahn.de/wp/wp-content/uploads/2020/03/Öchsle-Riecker.jpg
END:VEVENT
BEGIN:VEVENT
DTSTART;VALUE=DATE:20260919
DTEND;VALUE=DATE:20260920
DTSTAMP:20260421T191508
CREATED:20251014T074941Z
LAST-MODIFIED:20251203T122934Z
UID:10000183-1789776000-1789862399@oechsle-bahn.de
SUMMARY:Kulinarische Reise
DESCRIPTION:Die Genießertour mit dem Öchsle durch Oberschwaben. Mit Sektempfang\, einem Konzert auf der herrlichen Gabler-Orgel in Ochsenhausen\, 3-Gänge-Menü nach Wahl\, Tischwein und Schnäpsle. \nReservierungspflicht\, Fahrpreis 85 €.\nAlle Infos als Flyer (PDF) \n  \nUnsere Menüauswahl\n\nVorspeise\nLachsterrine\, Lauchsalat\, Baguette\n\nHauptspeise\n\nMenü 1\nGefüllte Kalbsbrust\, Rahmsoße\, Spätzle\n\nMenü 2\nOchsenhauser Duo\, Rindsroulade\, Rotweinsoße\, Blaukraut\, Kroketten\n\nMenü 3\nRehgulasch\, Schattenmorellen\, Serviettenknödel\, Kroketten\n\nMenü 4\nKräuter-Kartoffelkuchen\, Kremspinat (Vegetarisch)\n\nDessert\n• Karthäuserschnitten\, Rotwein Schaum\, Zwetschgenkompott\n• Hausgemachte Eistorte\, Apfelküchle\, Grießflammerie\nVerdauungsschnäpsle im Zug \n 
URL:https://oechsle-bahn.de/wp/termin/kulinarische-reise-3/
CATEGORIES:Sonderfahrten
ATTACH;FMTTYPE=image/jpeg:https://oechsle-bahn.de/wp/wp-content/uploads/2025/10/oechsle-kulinarisch-2026.09.19-a6-1.jpg
END:VEVENT
BEGIN:VEVENT
DTSTART;VALUE=DATE:20260920
DTEND;VALUE=DATE:20260921
DTSTAMP:20260421T191508
CREATED:20251012T085807Z
LAST-MODIFIED:20251013T141152Z
UID:10000173-1789862400-1789948799@oechsle-bahn.de
SUMMARY:Sonntagsfahrt
DESCRIPTION:Das Öchsle fährt an allen Sonn- und Feiertagen von 01.05.2026 bis 11.10.2026. \nEine Reservierung ist erforderlich für Gruppen ab 10 Personen. Kleinere Gruppen und Einzelpersonen benötigen keine Reservierung. Aktuelle Preise finden Sie hier (PDF) > \n  \n\n\n\n\n	Erste FahrtZweite Fahrt\n\n\n\n\n	Warthausen ab10.3014.45\n\n\n	Ochsenhausen an11.4015.55\n\n\n	Ochsenhausen ab12.0016.15\n\n\n	Warthausen an13.1017.25
URL:https://oechsle-bahn.de/wp/termin/sonntagsfahrt-31/
CATEGORIES:Reguläre Fahrten
ATTACH;FMTTYPE=image/jpeg:https://oechsle-bahn.de/wp/wp-content/uploads/2020/03/Öchsle-Riecker.jpg
END:VEVENT
BEGIN:VEVENT
DTSTART;VALUE=DATE:20260927
DTEND;VALUE=DATE:20260928
DTSTAMP:20260421T191508
CREATED:20251012T085936Z
LAST-MODIFIED:20251013T141138Z
UID:10000174-1790467200-1790553599@oechsle-bahn.de
SUMMARY:Sonntagsfahrt
DESCRIPTION:Das Öchsle fährt an allen Sonn- und Feiertagen von 01.05.2026 bis 11.10.2026. \nEine Reservierung ist erforderlich für Gruppen ab 10 Personen. Kleinere Gruppen und Einzelpersonen benötigen keine Reservierung. Aktuelle Preise finden Sie hier (PDF) > \n  \n\n\n\n\n	Erste FahrtZweite Fahrt\n\n\n\n\n	Warthausen ab10.3014.45\n\n\n	Ochsenhausen an11.4015.55\n\n\n	Ochsenhausen ab12.0016.15\n\n\n	Warthausen an13.1017.25
URL:https://oechsle-bahn.de/wp/termin/sonntagsfahrt-32/
CATEGORIES:Reguläre Fahrten
ATTACH;FMTTYPE=image/jpeg:https://oechsle-bahn.de/wp/wp-content/uploads/2020/03/Öchsle-Riecker.jpg
END:VEVENT
END:VCALENDAR