BEGIN:VCALENDAR
VERSION:2.0
PRODID:-//Öchsle Museumsschmalspurbahn - ECPv6.15.20//NONSGML v1.0//EN
CALSCALE:GREGORIAN
METHOD:PUBLISH
X-WR-CALNAME:Öchsle Museumsschmalspurbahn
X-ORIGINAL-URL:https://oechsle-bahn.de/wp
X-WR-CALDESC:Veranstaltungen für Öchsle Museumsschmalspurbahn
REFRESH-INTERVAL;VALUE=DURATION:PT1H
X-Robots-Tag:noindex
X-PUBLISHED-TTL:PT1H
BEGIN:VTIMEZONE
TZID:Europe/Berlin
BEGIN:DAYLIGHT
TZOFFSETFROM:+0100
TZOFFSETTO:+0200
TZNAME:CEST
DTSTART:20250330T010000
END:DAYLIGHT
BEGIN:STANDARD
TZOFFSETFROM:+0200
TZOFFSETTO:+0100
TZNAME:CET
DTSTART:20251026T010000
END:STANDARD
BEGIN:DAYLIGHT
TZOFFSETFROM:+0100
TZOFFSETTO:+0200
TZNAME:CEST
DTSTART:20260329T010000
END:DAYLIGHT
BEGIN:STANDARD
TZOFFSETFROM:+0200
TZOFFSETTO:+0100
TZNAME:CET
DTSTART:20261025T010000
END:STANDARD
BEGIN:DAYLIGHT
TZOFFSETFROM:+0100
TZOFFSETTO:+0200
TZNAME:CEST
DTSTART:20270328T010000
END:DAYLIGHT
BEGIN:STANDARD
TZOFFSETFROM:+0200
TZOFFSETTO:+0100
TZNAME:CET
DTSTART:20271031T010000
END:STANDARD
END:VTIMEZONE
BEGIN:VEVENT
DTSTART;VALUE=DATE:20260801
DTEND;VALUE=DATE:20260802
DTSTAMP:20260421T173623
CREATED:20251010T083700Z
LAST-MODIFIED:20251014T092102Z
UID:10000152-1785542400-1785628799@oechsle-bahn.de
SUMMARY:Samstagsfahrt
DESCRIPTION:Das Öchsle fährt jeden 1. Samstag im Monat von 02.05.2026 bis 03.10.2026. \nEine Reservierung ist erforderlich für Gruppen ab 10 Personen. Kleinere Gruppen und Einzelpersonen benötigen keine Reservierung. Aktuelle Preise finden Sie hier (PDF) > \n  \n\n\n\n\n	Erste FahrtZweite Fahrt\n\n\n\n\n	Warthausen ab10.3014.45\n\n\n	Ochsenhausen an11.4015.55\n\n\n	Ochsenhausen ab12.0016.15\n\n\n	Warthausen an13.1017.25
URL:https://oechsle-bahn.de/wp/termin/samstagsfahrt-9/
CATEGORIES:Reguläre Fahrten
ATTACH;FMTTYPE=image/jpeg:https://oechsle-bahn.de/wp/wp-content/uploads/2024/12/Oechsle-GGG_7475b.jpg
END:VEVENT
BEGIN:VEVENT
DTSTART;VALUE=DATE:20260802
DTEND;VALUE=DATE:20260803
DTSTAMP:20260421T173623
CREATED:20251012T083936Z
LAST-MODIFIED:20251012T083936Z
UID:10000166-1785628800-1785715199@oechsle-bahn.de
SUMMARY:Sonntagsfahrt
DESCRIPTION:Das Öchsle fährt an allen Sonn- und Feiertagen von 01.05.2026 bis 11.10.2026. \nEine Reservierung ist erforderlich für Gruppen ab 10 Personen. Kleinere Gruppen und Einzelpersonen benötigen keine Reservierung. Aktuelle Preise finden Sie hier (PDF) > \n  \n\n\n\n\n	Erste FahrtZweite Fahrt\n\n\n\n\n	Warthausen ab10.3014.45\n\n\n	Ochsenhausen an11.4015.55\n\n\n	Ochsenhausen ab12.0016.15\n\n\n	Warthausen an13.1017.25
URL:https://oechsle-bahn.de/wp/termin/sonntagsfahrt-25/
CATEGORIES:Reguläre Fahrten
ATTACH;FMTTYPE=image/jpeg:https://oechsle-bahn.de/wp/wp-content/uploads/2020/03/Öchsle-Riecker.jpg
END:VEVENT
BEGIN:VEVENT
DTSTART;VALUE=DATE:20260806
DTEND;VALUE=DATE:20260807
DTSTAMP:20260421T173623
CREATED:20251014T082335Z
LAST-MODIFIED:20251014T112040Z
UID:10000188-1785974400-1786060799@oechsle-bahn.de
SUMMARY:Donnerstagsfahrt
DESCRIPTION:Das Öchsle fährt an allen Donnerstagen von 16.07.2026 bis 10.09.2026. \nEine Reservierung ist erforderlich für Gruppen ab 10 Personen. Kleinere Gruppen und Einzelpersonen benötigen keine Reservierung. Aktuelle Preise finden Sie hier (PDF) > \nAn den Donnerstagen finden in Ochsenhausen außerdem öffentliche Stadtführungen statt. Beginn 12.00 Uhr am Öchsle-Bahnhof. Keine Anmeldung notwendig. Kosten: 5\,00 € / Erwachsener (ab 16 Jahren). Weitere Informationen erhalten Sie bei der Tourist-Info unter Tel. 07352 9220-26. \n  \n\n\n\n\n	Erste FahrtZweite Fahrt\n\n\n\n\n	Warthausen ab10.3014.45\n\n\n	Ochsenhausen an11.4015.55\n\n\n	Ochsenhausen ab12.0016.15\n\n\n	Warthausen an13.1017.25
URL:https://oechsle-bahn.de/wp/termin/donnerstagsfahrt-13/
CATEGORIES:Reguläre Fahrten
ATTACH;FMTTYPE=image/jpeg:https://oechsle-bahn.de/wp/wp-content/uploads/2021/07/oechslebahn-foto-kilian-mueller.jpg
END:VEVENT
BEGIN:VEVENT
DTSTART;VALUE=DATE:20260808
DTEND;VALUE=DATE:20260809
DTSTAMP:20260421T173623
CREATED:20251014T075639Z
LAST-MODIFIED:20251028T094043Z
UID:10000184-1786147200-1786233599@oechsle-bahn.de
SUMMARY:Mit Volldampf in den Abend
DESCRIPTION:Mit Volldampf in den Abend: Mit Live-Musik und Bewirtung dampft die Öchsle-Bahn von Warthausen nach Ochsenhausen. \nReservierungspflicht \nReguläre Fahrpreise (Einfach / Hin & Rück)\nErwachsene: 15 € / 20 €\,\nGruppen ab 15 Pers.: 14 € / 18 € (je Pers.)
URL:https://oechsle-bahn.de/wp/termin/mit-volldampf-in-den-abend/
CATEGORIES:Sonderfahrten
ATTACH;FMTTYPE=image/jpeg:https://oechsle-bahn.de/wp/wp-content/uploads/2025/10/oechsle-mitvolldampfindenabend-2026-a6-2.1-1.jpg
END:VEVENT
BEGIN:VEVENT
DTSTART;VALUE=DATE:20260809
DTEND;VALUE=DATE:20260810
DTSTAMP:20260421T173623
CREATED:20251012T084116Z
LAST-MODIFIED:20251012T084116Z
UID:10000167-1786233600-1786319999@oechsle-bahn.de
SUMMARY:Sonntagsfahrt
DESCRIPTION:Das Öchsle fährt an allen Sonn- und Feiertagen von 01.05.2026 bis 11.10.2026. \nEine Reservierung ist erforderlich für Gruppen ab 10 Personen. Kleinere Gruppen und Einzelpersonen benötigen keine Reservierung. Aktuelle Preise finden Sie hier (PDF) > \n  \n\n\n\n\n	Erste FahrtZweite Fahrt\n\n\n\n\n	Warthausen ab10.3014.45\n\n\n	Ochsenhausen an11.4015.55\n\n\n	Ochsenhausen ab12.0016.15\n\n\n	Warthausen an13.1017.25
URL:https://oechsle-bahn.de/wp/termin/sonntagsfahrt-26/
CATEGORIES:Reguläre Fahrten
ATTACH;FMTTYPE=image/jpeg:https://oechsle-bahn.de/wp/wp-content/uploads/2020/03/Öchsle-Riecker.jpg
END:VEVENT
BEGIN:VEVENT
DTSTART;VALUE=DATE:20260813
DTEND;VALUE=DATE:20260814
DTSTAMP:20260421T173623
CREATED:20251014T082517Z
LAST-MODIFIED:20251014T112204Z
UID:10000189-1786579200-1786665599@oechsle-bahn.de
SUMMARY:Donnerstagsfahrt
DESCRIPTION:Das Öchsle fährt an allen Donnerstagen von 16.07.2026 bis 10.09.2026. \nEine Reservierung ist erforderlich für Gruppen ab 10 Personen. Kleinere Gruppen und Einzelpersonen benötigen keine Reservierung. Aktuelle Preise finden Sie hier (PDF) > \nAn den Donnerstagen finden in Ochsenhausen außerdem öffentliche Stadtführungen statt. Beginn 12.00 Uhr am Öchsle-Bahnhof. Keine Anmeldung notwendig. Kosten: 5\,00 € / Erwachsener (ab 16 Jahren). Weitere Informationen erhalten Sie bei der Tourist-Info unter Tel. 07352 9220-26. \n  \n\n\n\n\n	Erste FahrtZweite Fahrt\n\n\n\n\n	Warthausen ab10.3014.45\n\n\n	Ochsenhausen an11.4015.55\n\n\n	Ochsenhausen ab12.0016.15\n\n\n	Warthausen an13.1017.25
URL:https://oechsle-bahn.de/wp/termin/donnerstagsfahrt-14/
CATEGORIES:Reguläre Fahrten
ATTACH;FMTTYPE=image/jpeg:https://oechsle-bahn.de/wp/wp-content/uploads/2021/07/oechslebahn-foto-kilian-mueller.jpg
END:VEVENT
BEGIN:VEVENT
DTSTART;VALUE=DATE:20260816
DTEND;VALUE=DATE:20260817
DTSTAMP:20260421T173623
CREATED:20251012T084329Z
LAST-MODIFIED:20251014T092151Z
UID:10000168-1786838400-1786924799@oechsle-bahn.de
SUMMARY:Sonntagsfahrt
DESCRIPTION:Das Öchsle fährt an allen Sonn- und Feiertagen von 01.05.2026 bis 11.10.2026. \nEine Reservierung ist erforderlich für Gruppen ab 10 Personen. Kleinere Gruppen und Einzelpersonen benötigen keine Reservierung. Aktuelle Preise finden Sie hier (PDF) > \n  \n\n\n\n\n	Erste FahrtZweite Fahrt\n\n\n\n\n	Warthausen ab10.3014.45\n\n\n	Ochsenhausen an11.4015.55\n\n\n	Ochsenhausen ab12.0016.15\n\n\n	Warthausen an13.1017.25
URL:https://oechsle-bahn.de/wp/termin/sonntagsfahrt-27/
CATEGORIES:Reguläre Fahrten
ATTACH;FMTTYPE=image/jpeg:https://oechsle-bahn.de/wp/wp-content/uploads/2020/03/Öchsle-Riecker.jpg
END:VEVENT
BEGIN:VEVENT
DTSTART;VALUE=DATE:20260820
DTEND;VALUE=DATE:20260821
DTSTAMP:20260421T173623
CREATED:20251014T082649Z
LAST-MODIFIED:20251014T112317Z
UID:10000190-1787184000-1787270399@oechsle-bahn.de
SUMMARY:Donnerstagsfahrt
DESCRIPTION:Das Öchsle fährt an allen Donnerstagen von 16.07.2026 bis 10.09.2026. \nEine Reservierung ist erforderlich für Gruppen ab 10 Personen. Kleinere Gruppen und Einzelpersonen benötigen keine Reservierung. Aktuelle Preise finden Sie hier (PDF) > \nAn den Donnerstagen finden in Ochsenhausen außerdem öffentliche Stadtführungen statt. Beginn 12.00 Uhr am Öchsle-Bahnhof. Keine Anmeldung notwendig. Kosten: 5\,00 € / Erwachsener (ab 16 Jahren). Weitere Informationen erhalten Sie bei der Tourist-Info unter Tel. 07352 9220-26. \n  \n\n\n\n\n	Erste FahrtZweite Fahrt\n\n\n\n\n	Warthausen ab10.3014.45\n\n\n	Ochsenhausen an11.4015.55\n\n\n	Ochsenhausen ab12.0016.15\n\n\n	Warthausen an13.1017.25
URL:https://oechsle-bahn.de/wp/termin/donnerstagsfahrt-15/
CATEGORIES:Reguläre Fahrten
ATTACH;FMTTYPE=image/jpeg:https://oechsle-bahn.de/wp/wp-content/uploads/2021/07/oechslebahn-foto-kilian-mueller.jpg
END:VEVENT
BEGIN:VEVENT
DTSTART;VALUE=DATE:20260823
DTEND;VALUE=DATE:20260824
DTSTAMP:20260421T173623
CREATED:20251012T084501Z
LAST-MODIFIED:20251012T084501Z
UID:10000169-1787443200-1787529599@oechsle-bahn.de
SUMMARY:Sonntagsfahrt
DESCRIPTION:Das Öchsle fährt an allen Sonn- und Feiertagen von 01.05.2026 bis 11.10.2026. \nEine Reservierung ist erforderlich für Gruppen ab 10 Personen. Kleinere Gruppen und Einzelpersonen benötigen keine Reservierung. Aktuelle Preise finden Sie hier (PDF) > \n  \n\n\n\n\n	Erste FahrtZweite Fahrt\n\n\n\n\n	Warthausen ab10.3014.45\n\n\n	Ochsenhausen an11.4015.55\n\n\n	Ochsenhausen ab12.0016.15\n\n\n	Warthausen an13.1017.25
URL:https://oechsle-bahn.de/wp/termin/sonntagsfahrt-28/
CATEGORIES:Reguläre Fahrten
ATTACH;FMTTYPE=image/jpeg:https://oechsle-bahn.de/wp/wp-content/uploads/2020/03/Öchsle-Riecker.jpg
END:VEVENT
BEGIN:VEVENT
DTSTART;VALUE=DATE:20260827
DTEND;VALUE=DATE:20260828
DTSTAMP:20260421T173623
CREATED:20251014T082816Z
LAST-MODIFIED:20251014T112402Z
UID:10000191-1787788800-1787875199@oechsle-bahn.de
SUMMARY:Donnerstagsfahrt
DESCRIPTION:Das Öchsle fährt an allen Donnerstagen von 16.07.2026 bis 10.09.2026. \nEine Reservierung ist erforderlich für Gruppen ab 10 Personen. Kleinere Gruppen und Einzelpersonen benötigen keine Reservierung. Aktuelle Preise finden Sie hier (PDF) > \nAn den Donnerstagen finden in Ochsenhausen außerdem öffentliche Stadtführungen statt. Beginn 12.00 Uhr am Öchsle-Bahnhof. Keine Anmeldung notwendig. Kosten: 5\,00 € / Erwachsener (ab 16 Jahren). Weitere Informationen erhalten Sie bei der Tourist-Info unter Tel. 07352 9220-26. \n  \n\n\n\n\n	Erste FahrtZweite Fahrt\n\n\n\n\n	Warthausen ab10.3014.45\n\n\n	Ochsenhausen an11.4015.55\n\n\n	Ochsenhausen ab12.0016.15\n\n\n	Warthausen an13.1017.25
URL:https://oechsle-bahn.de/wp/termin/donnerstagsfahrt-16/
CATEGORIES:Reguläre Fahrten
ATTACH;FMTTYPE=image/jpeg:https://oechsle-bahn.de/wp/wp-content/uploads/2021/07/oechslebahn-foto-kilian-mueller.jpg
END:VEVENT
BEGIN:VEVENT
DTSTART;VALUE=DATE:20260830
DTEND;VALUE=DATE:20260831
DTSTAMP:20260421T173623
CREATED:20251012T084626Z
LAST-MODIFIED:20251012T084626Z
UID:10000170-1788048000-1788134399@oechsle-bahn.de
SUMMARY:Sonntagsfahrt
DESCRIPTION:Das Öchsle fährt an allen Sonn- und Feiertagen von 01.05.2026 bis 11.10.2026. \nEine Reservierung ist erforderlich für Gruppen ab 10 Personen. Kleinere Gruppen und Einzelpersonen benötigen keine Reservierung. Aktuelle Preise finden Sie hier (PDF) > \n  \n\n\n\n\n	Erste FahrtZweite Fahrt\n\n\n\n\n	Warthausen ab10.3014.45\n\n\n	Ochsenhausen an11.4015.55\n\n\n	Ochsenhausen ab12.0016.15\n\n\n	Warthausen an13.1017.25
URL:https://oechsle-bahn.de/wp/termin/sonntagsfahrt-29/
CATEGORIES:Reguläre Fahrten
ATTACH;FMTTYPE=image/jpeg:https://oechsle-bahn.de/wp/wp-content/uploads/2020/03/Öchsle-Riecker.jpg
END:VEVENT
END:VCALENDAR