BEGIN:VCALENDAR
VERSION:2.0
PRODID:-//Öchsle Museumsschmalspurbahn - ECPv6.15.20//NONSGML v1.0//EN
CALSCALE:GREGORIAN
METHOD:PUBLISH
X-ORIGINAL-URL:https://oechsle-bahn.de/wp
X-WR-CALDESC:Veranstaltungen für Öchsle Museumsschmalspurbahn
REFRESH-INTERVAL;VALUE=DURATION:PT1H
X-Robots-Tag:noindex
X-PUBLISHED-TTL:PT1H
BEGIN:VTIMEZONE
TZID:Europe/Berlin
BEGIN:DAYLIGHT
TZOFFSETFROM:+0100
TZOFFSETTO:+0200
TZNAME:CEST
DTSTART:20250330T010000
END:DAYLIGHT
BEGIN:STANDARD
TZOFFSETFROM:+0200
TZOFFSETTO:+0100
TZNAME:CET
DTSTART:20251026T010000
END:STANDARD
BEGIN:DAYLIGHT
TZOFFSETFROM:+0100
TZOFFSETTO:+0200
TZNAME:CEST
DTSTART:20260329T010000
END:DAYLIGHT
BEGIN:STANDARD
TZOFFSETFROM:+0200
TZOFFSETTO:+0100
TZNAME:CET
DTSTART:20261025T010000
END:STANDARD
BEGIN:DAYLIGHT
TZOFFSETFROM:+0100
TZOFFSETTO:+0200
TZNAME:CEST
DTSTART:20270328T010000
END:DAYLIGHT
BEGIN:STANDARD
TZOFFSETFROM:+0200
TZOFFSETTO:+0100
TZNAME:CET
DTSTART:20271031T010000
END:STANDARD
END:VTIMEZONE
BEGIN:VEVENT
DTSTART;VALUE=DATE:20260606
DTEND;VALUE=DATE:20260607
DTSTAMP:20260421T141856
CREATED:20251010T083109Z
LAST-MODIFIED:20251010T083109Z
UID:10000150-1780704000-1780790399@oechsle-bahn.de
SUMMARY:Samstagsfahrt
DESCRIPTION:Das Öchsle fährt jeden 1. Samstag im Monat von 02.05.2026 bis 03.10.2026. \nEine Reservierung ist erforderlich für Gruppen ab 10 Personen. Kleinere Gruppen und Einzelpersonen benötigen keine Reservierung. Aktuelle Preise finden Sie hier (PDF) > \n  \n\n\n\n\n	Erste FahrtZweite Fahrt\n\n\n\n\n	Warthausen ab10.3014.45\n\n\n	Ochsenhausen an11.4015.55\n\n\n	Ochsenhausen ab12.0016.15\n\n\n	Warthausen an13.1017.25
URL:https://oechsle-bahn.de/wp/termin/samstagsfahrt-7/
CATEGORIES:Reguläre Fahrten
ATTACH;FMTTYPE=image/jpeg:https://oechsle-bahn.de/wp/wp-content/uploads/2024/12/Oechsle-GGG_7475b.jpg
END:VEVENT
BEGIN:VEVENT
DTSTART;VALUE=DATE:20260607
DTEND;VALUE=DATE:20260608
DTSTAMP:20260421T141856
CREATED:20251012T082017Z
LAST-MODIFIED:20251014T084001Z
UID:10000149-1780790400-1780876799@oechsle-bahn.de
SUMMARY:Familientag / Sonntagsfahrt
DESCRIPTION:Beim Öchsle Familientag gibts 20 % auf Familienkarten. Mit Jo Brösele – ein Riesenspaß für die ganze Familie. Jedes Kind erhält eine Überraschung. Glücksrad am Bahnhof in Ochsenhausen für Kinder\, kostenloses Popcorn. \nEine Reservierung ist erforderlich für Gruppen ab 10 Personen. Kleinere Gruppen und Einzelpersonen benötigen keine Reservierung. \n  \n\n\n\n\n	Erste FahrtZweite Fahrt\n\n\n\n\n	Warthausen ab10.3014.45\n\n\n	Ochsenhausen an11.4015.55\n\n\n	Ochsenhausen ab12.0016.15\n\n\n	Warthausen an13.1017.25
URL:https://oechsle-bahn.de/wp/termin/familientag-sonntagsfahrt/
CATEGORIES:Reguläre Fahrten
ATTACH;FMTTYPE=image/jpeg:https://oechsle-bahn.de/wp/wp-content/uploads/2025/10/oechsle-familientag-2026-a6-1.jpg
END:VEVENT
BEGIN:VEVENT
DTSTART;VALUE=DATE:20260614
DTEND;VALUE=DATE:20260615
DTSTAMP:20260421T141856
CREATED:20251012T082413Z
LAST-MODIFIED:20251016T141359Z
UID:10000160-1781395200-1781481599@oechsle-bahn.de
SUMMARY:Sonntagsfahrt
DESCRIPTION:Das Öchsle fährt an allen Sonn- und Feiertagen von 01.05.2026 bis 11.10.2026. \nEine Reservierung ist erforderlich für Gruppen ab 10 Personen. Kleinere Gruppen und Einzelpersonen benötigen keine Reservierung. Aktuelle Preise finden Sie hier (PDF) > \n  \n\n\n\n\n	Erste FahrtZweite Fahrt\n\n\n\n\n	Warthausen ab10.3014.45\n\n\n	Ochsenhausen an11.4015.55\n\n\n	Ochsenhausen ab12.0016.15\n\n\n	Warthausen an13.1017.25
URL:https://oechsle-bahn.de/wp/termin/sonntagsfahrt-20/
CATEGORIES:Reguläre Fahrten
ATTACH;FMTTYPE=image/jpeg:https://oechsle-bahn.de/wp/wp-content/uploads/2020/03/Öchsle-Riecker.jpg
END:VEVENT
BEGIN:VEVENT
DTSTART;VALUE=DATE:20260619
DTEND;VALUE=DATE:20260622
DTSTAMP:20260421T141856
CREATED:20251014T103848Z
LAST-MODIFIED:20251014T111431Z
UID:10000203-1781827200-1782086399@oechsle-bahn.de
SUMMARY:Öchslefest
DESCRIPTION:Großes Stadtfest in Ochsenhausen vom 19. – 21.06.2026.\nWeitere Informationen finden Sie hier: www.oechslefest-ochsenhausen.de. \nWährend des Öchslefests finden auch die regulären Samstags- und Sonntagsfahrten statt.
URL:https://oechsle-bahn.de/wp/termin/oechslefest-2/
CATEGORIES:Weitere Veranstaltungen
ATTACH;FMTTYPE=image/jpeg:https://oechsle-bahn.de/wp/wp-content/uploads/2017/02/Klosteranlage.jpg
END:VEVENT
BEGIN:VEVENT
DTSTART;VALUE=DATE:20260620
DTEND;VALUE=DATE:20260621
DTSTAMP:20260421T141856
CREATED:20251014T103617Z
LAST-MODIFIED:20251014T103902Z
UID:10000202-1781913600-1781999999@oechsle-bahn.de
SUMMARY:Öchslefest / Samstagsfahrt
DESCRIPTION:Fahrt zum Öchslefest in Ochsenhausen. Weitere Informationen zum großen Stadtfest (19. – 21.06.26) finden Sie hier: www.oechslefest-ochsenhausen.de. \nEine Reservierung ist erforderlich für Gruppen ab 10 Personen. Kleinere Gruppen und Einzelpersonen benötigen keine Reservierung. Aktuelle Preise finden Sie hier (PDF) > \n  \n\n\n\n\n	Erste FahrtZweite Fahrt\n\n\n\n\n	Warthausen ab10.3014.45\n\n\n	Ochsenhausen an11.4015.55\n\n\n	Ochsenhausen ab12.0016.15\n\n\n	Warthausen an13.1017.25
URL:https://oechsle-bahn.de/wp/termin/oechslefest-samstagsfahrt-2/
CATEGORIES:Reguläre Fahrten
ATTACH;FMTTYPE=image/jpeg:https://oechsle-bahn.de/wp/wp-content/uploads/2024/12/Oechsle-GGG_7475b.jpg
END:VEVENT
BEGIN:VEVENT
DTSTART;VALUE=DATE:20260621
DTEND;VALUE=DATE:20260622
DTSTAMP:20260421T141856
CREATED:20251012T082647Z
LAST-MODIFIED:20251014T103857Z
UID:10000161-1782000000-1782086399@oechsle-bahn.de
SUMMARY:Öchslefest / Sonntagsfahrt
DESCRIPTION:Fahrt zum Öchslefest in Ochsenhausen. Weitere Informationen zum großen Stadtfest (19. – 21.06.26) finden Sie hier: www.oechslefest-ochsenhausen.de. \nEine Reservierung ist erforderlich für Gruppen ab 10 Personen. Kleinere Gruppen und Einzelpersonen benötigen keine Reservierung. Aktuelle Preise finden Sie hier (PDF) > \n  \n\n\n\n\n	Erste FahrtZweite Fahrt\n\n\n\n\n	Warthausen ab10.3014.45\n\n\n	Ochsenhausen an11.4015.55\n\n\n	Ochsenhausen ab12.0016.15\n\n\n	Warthausen an13.1017.25
URL:https://oechsle-bahn.de/wp/termin/oechslefest-sonntagsfahrt-2/
CATEGORIES:Reguläre Fahrten
ATTACH;FMTTYPE=image/jpeg:https://oechsle-bahn.de/wp/wp-content/uploads/2024/12/Oechsle-GGG_7475b.jpg
END:VEVENT
BEGIN:VEVENT
DTSTART;VALUE=DATE:20260628
DTEND;VALUE=DATE:20260629
DTSTAMP:20260421T141856
CREATED:20251012T083112Z
LAST-MODIFIED:20251012T083112Z
UID:10000162-1782604800-1782691199@oechsle-bahn.de
SUMMARY:Sonntagsfahrt
DESCRIPTION:Das Öchsle fährt an allen Sonn- und Feiertagen von 01.05.2026 bis 11.10.2026. \nEine Reservierung ist erforderlich für Gruppen ab 10 Personen. Kleinere Gruppen und Einzelpersonen benötigen keine Reservierung. Aktuelle Preise finden Sie hier (PDF) > \n  \n\n\n\n\n	Erste FahrtZweite Fahrt\n\n\n\n\n	Warthausen ab10.3014.45\n\n\n	Ochsenhausen an11.4015.55\n\n\n	Ochsenhausen ab12.0016.15\n\n\n	Warthausen an13.1017.25
URL:https://oechsle-bahn.de/wp/termin/sonntagsfahrt-21/
CATEGORIES:Reguläre Fahrten
ATTACH;FMTTYPE=image/jpeg:https://oechsle-bahn.de/wp/wp-content/uploads/2020/03/Öchsle-Riecker.jpg
END:VEVENT
END:VCALENDAR